BEGIN:VCALENDAR
VERSION:2.0
PRODID:-//UIC
BEGIN:VEVENT
UID:2026042010340720250321T00000020250427T00000069e6011f990e4@uic.edu
CATEGORIES:MEETING
STATUS:TENTATIVE
DTSTAMP:20250307T032042
DTSTART;VALUE=DATE:20250321
SUMMARY:The UIC Student Association of Medical ArtistsÂ Art Show
DESCRIPTION:The SAMA Biomedical Art Show is an exhibition featuring works by members of the Student Association of Medical Artists (SAMA) from the University of Illinois Chicago. This gallery celebrates the unique intersection of biological science, medicine, and art, highlighting the essential role of biomedical visualization in education, communication, and discovery.    From traditional illustrations to digital graphics, 3D animations, and beyond, biomedical artists translate complex scientific concepts into engaging, accessible visuals. As both storytellers and communicators, they craft compelling narratives that clarify intricate medical information, making it easier to understand for diverse audiences. Their work bridges the gap between healthcare professionals and the public, transforming data and discoveries into visuals that inform, inspire, and educate. By collaborating with scientists, healthcare providers, and patients, biomedical artists illuminate lesser-known, underrepresented, and emerging areas of biological science.    Grounded in principles of diversity, inclusion, and ethics, biomedical visualization is more than just an artistic endeavor?it is a tool for education, inspiration, and exploration in an increasingly digital world. The wide range of media on display reflects the ever-evolving landscape of scientific and medical education.    Ultimately, this exhibition invites viewers to discover the multidisciplinary field of biomedical visualization and appreciate its profound impact in making science both educational and equitable.    Participating artists:    Adam Kessler, Alex Dimeff, Anna Waddell, Amanda Dazo, Ashley Yuhm, Bren Alford, Chelsey Crile, Chloe Best, Court Johnson, Elizabeth Eleni Perakes, Emma Geis, Fabianna Morell, Hanie Jaffery, Hannah Hurst, Hayley D?Alessandro, Isabella Bushko, Janejira Nasaree, Joanna Wiedl, Jordan Aranda, Juliana Bozeman, Kassandra Baker, Katherine Khuu, Liana Lanford, Madison Taylor, Marco Moreno, Mckenzie Dulmes, Melinda Thompson, Michelle Soltys, Nimisha Antony, Sam Kobel, Terri Schlessinger, Vivian Zhuang, Yuming Wang    For information on planning your visit to The International Museum of Surgical Sciences, please check their website. | Event post: https://ahs.uic.edu/events?page_id=13476
LOCATION:The International Museum of Surgical Sciences 1524 N. Lake Shore Dr.  Chicago IL 60610
CLASS:PRIVATE
END:VEVENT
END:VCALENDAR
