BEGIN:VCALENDAR
VERSION:2.0
PRODID:-//UIC
BEGIN:VEVENT
UID:2026042209250920260730T19000020260730T21000069e93cb5db5cc@uic.edu
CATEGORIES:MEETING
STATUS:TENTATIVE
DTSTAMP:20260415T093859
DTSTART:20260730T190000
DTEND:20260730T210000
SUMMARY:Save the Date: UIC BVIS Alumni Dinner
DESCRIPTION:Save the date for the UIC BVIS Alumni &amp; Friends Dinner at AMI 2026    Join fellow UIC Biomedical Visualization alumni, faculty and friends at a complimentary dinner buffet during the 80th Annual Conference of the Association of Medical Illustrators. | Event post: https://ahs.uic.edu/events?page_id=17025
LOCATION:The Community Terrace Room, Monona Terrace Community and Convention Center 1 John Nolen Drive  Madison WI 53703
CLASS:PRIVATE
END:VEVENT
END:VCALENDAR
