BEGIN:VCALENDAR
VERSION:2.0
PRODID:-//UIC
BEGIN:VEVENT
UID:2026042208251020260507T12000020260507T13000069e92ea69e955@uic.edu
CATEGORIES:MEETING
STATUS:TENTATIVE
DTSTAMP:20260417T050930
DTSTART:20260507T120000
DTEND:20260507T130000
SUMMARY:ASIAAN Language Access Webinar
DESCRIPTION:Access to services should never be limited by language. Join us for an upcoming Language Access Webinar hosted by Aging Services Inclusive of Asian American Networks (ASIAAN), where we will explore how to better support older adults with limited English proficiency.    ? Monday, May 7, 2026  ? 12:00 ? 1:00 PM CST  ? Virtual via Zoom    This conversation will bring together experts to discuss:  ? Local and national policies on language access in health and social services  ? Best practices for supporting older adults and caregivers  ? Innovative approaches to integrating language access into service delivery    Whether you are a service provider, researcher, advocate, or community member, this session will offer practical insights and resources to advance equitable access.    ? Register here: https://gqr.sh/ACWU    If you would like to submit questions in a langauge other than English to be answered during the webinar please respond to this form:  https://lnkd.in/gfiqHdW5 | Event post: https://ahs.uic.edu/events?page_id=17055
LOCATION:Virtual via Zoom    Select 
CLASS:PRIVATE
END:VEVENT
END:VCALENDAR
