BEGIN:VCALENDAR
VERSION:2.0
PRODID:-//UIC
BEGIN:VEVENT
UID:2026042211062820241106T16000020241106T17000069e95474a302f@uic.edu
CATEGORIES:MEETING
STATUS:TENTATIVE
DTSTAMP:20241011T093513
DTSTART:20241106T160000
DTEND:20241106T170000
SUMMARY:Grow Your Gap: Enriching My Healthcare Experience
DESCRIPTION:Have you been thinking about taking a gap year to gain experience and/or strengthen your graduate school application? Learn what a gap year is and how to get the most out of a gap year experience focused on working in healthcare.    You will have the opportunity to hear from UIC alumni who took gap years and are in graduate school or are working as healthcare professionals. In addition, you will begin to create an action plan to jumpstart your gap year planning!    This program is a partnership among 3 units: College of Applied Health Sciences, the College of Liberal Arts and Sciences, and L@s Ganas   | Event post: https://ahs.uic.edu/inside-ahs/events?page_id=24190
LOCATION:ARC 136 940 West Harrison Street  Chicago IL 
CLASS:PRIVATE
END:VEVENT
END:VCALENDAR
