BEGIN:VCALENDAR
VERSION:2.0
PRODID:-//UIC
BEGIN:VEVENT
UID:2026041909322720241107T12000020241107T13000069e549ebdf758@uic.edu
CATEGORIES:MEETING
STATUS:TENTATIVE
DTSTAMP:20241016T030413
DTSTART:20241107T120000
DTEND:20241107T130000
SUMMARY:The Nuts and Bolts of Outreach Using Social Media presented by Robert Motl, Denise Gomez and Erika ChÃ¡vez
DESCRIPTION:Learn how the Exercise Neuroscience Research Laboratory is leveraging social media to engage with communities, increase awareness, and solidify their reputation as subject matter experts and leaders. Presenters Robert Motl, Denise Gomez and Erika Chávez will describe the process of beginning and sustaining an engaging social media presence as a research lab at UIC.    This presentation is a must for AHS research labs, centers and programs that are interested in establishing a new or revamping an existing UIC-affiliated social media account.    A Zoom link will be provided to you via email upon submission of this registration form. Questions? Contact Erika Chavez at eachavez@uic.edu.    Register to participate.  | Event post: https://ahs.uic.edu/inside-ahs/events?page_id=24205
LOCATION:Online via Zoom    Select 
CLASS:PRIVATE
END:VEVENT
END:VCALENDAR
