BEGIN:VCALENDAR
VERSION:2.0
PRODID:-//UIC
BEGIN:VEVENT
UID:2026042404435620250410T17000020250410T19000069eb9dcc28946@uic.edu
CATEGORIES:MEETING
STATUS:TENTATIVE
DTSTAMP:20250321T041343
DTSTART:20250410T170000
DTEND:20250410T190000
SUMMARY:Kinesiology Club's Fit4Life
DESCRIPTION:Join the Kinesiology Club at FIT4Life!    ? Date: April 10, 2025  ? Time: 5:00 ? 7:00 PM  ? Location: UIC Student Recreational Facility (First Floor &amp; MAC Gym)  Event Agenda:  ?? Scavenger Hunt (3rd Floor) ? 5:00-6:00 PM  ?? Vendors &amp; Giveaways? 5:00-6:00 PM  ? Fitness Class ? 5:15-6:00 PM  ? Partner &amp; Team Games ? 5:45-6:15 PM  ? Highlighted Event: Student vs. Faculty Volleyball Game ? 6:15-7:00 PM    ? Win a T-Shirt! ?  We?ll be giving out exclusive club T-shirts to winners of our games!  Sneak Peek at Our Vendors:  ? Celsius  ? Red Bull  ? Student Nutrition Association  ? Exercise is Medicine On Campus  ? ChiroOne    Come join us for an unforgettable evening of fun, fitness, and community! ? | Event post: https://ahs.uic.edu/inside-ahs/events?page_id=25938
LOCATION:UIC Student Recreation Facility MAC GYM 737 S Halsted St  Chicago IL 60607
CLASS:PRIVATE
END:VEVENT
END:VCALENDAR
