BEGIN:VCALENDAR
VERSION:2.0
PRODID:-//UIC
BEGIN:VEVENT
UID:2026042212534120250909T11000020250909T13000069e8c4d511ae5@uic.edu
CATEGORIES:MEETING
STATUS:TENTATIVE
DTSTAMP:20250530T095225
DTSTART:20250909T110000
DTEND:20250909T130000
SUMMARY:AHS Undergraduate Student Welcome
DESCRIPTION:AHS new and returning undergraduate students: Come meet your peers in Kinesiology, Nutrition, Disability and Human Development, Health Information Management, Rehabilitation Sciences, and other Applied Health Sciences disciplines.     AHS faculty and staff: Join us to welcome our new students and cheer them as they start a new academic year.     Grab some grub, AHS swag, and play games. This event is social as we build up our AHS community. Students will have the opportunity to meet many of the AHS affiliated student organizations and learn how to get involved. While RSVP isn't required its much appreciated (see below)    \n    Directions:  Come through the front doors the PEB building and walk directly through the back doors to find us in our PEB backyard.    \n    Notice of filming and photography:  By participating and being present during the event, you give the University of Illinois at Chicago the right to use photographs or video/audio recordings taken of you during the event for educational or promotional purposes and for sharing with external news media.     \n | Event post: https://ahs.uic.edu/inside-ahs/events?page_id=26711
LOCATION:PEB Backyard 901 W Roosevelt Rd  Chicago IL 60608
CLASS:PRIVATE
END:VEVENT
END:VCALENDAR
