BEGIN:VCALENDAR
VERSION:2.0
PRODID:-//UIC
BEGIN:VEVENT
UID:2026042205583520251016T19000020251016T20300069e90c4bea9f2@uic.edu
CATEGORIES:MEETING
STATUS:TENTATIVE
DTSTAMP:20250911T100213
DTSTART:20251016T190000
DTEND:20251016T203000
SUMMARY:AI and the Future of Health Information Management
DESCRIPTION:    This conference is presented by our students from the HIM program. Attendees will earn 1.5 CEUs.    Presentation topics include:     	Generative AI and Chatbots in Health Information Services   	AI in Clinical Documentation Improvement (CDI)   	Patient Privacy in the Age of AI   	Preparing the HIM workforce for AI ontegration   	AI and the Evolution of the Medical Coding Profession    Together, the topics highlight the opportunities and challenges of AI as it redefines the way we document, code, and protect patient information.     | Event post: https://ahs.uic.edu/inside-ahs/events?page_id=27916
LOCATION:https://uic.zoom.us/meeting/register/sefC5XRxT0WPGqt9Ueif9Q#/registration
CLASS:PRIVATE
END:VEVENT
END:VCALENDAR
