BEGIN:VCALENDAR
VERSION:2.0
PRODID:-//UIC
BEGIN:VEVENT
UID:2026041806214320260410T17000020260410T18000069e3cbb76f4cf@uic.edu
CATEGORIES:MEETING
STATUS:TENTATIVE
DTSTAMP:20260325T123546
DTSTART:20260410T170000
DTEND:20260410T180000
SUMMARY:Chair Chats with the Chancellor featuring Magic Johnson
DESCRIPTION:Join Chancellor Marie Lynn Miranda for a special Chair Chats conversation with Magic Johnson, exploring how his college experience shaped his success as an athlete and business leader. Free tickets available for UIC students, faculty, and staff    Chair Chats with the Chancellor Featuring Magic Johnson    The Office of the Chancellor invites the UIC community to a special Chair Chats event featuring Earvin ?Magic? Johnson. Having transitioned from the basketball court to the boardroom, Johnson now leads Magic Johnson Enterprises and is a co?owner of multiple professional sports teams across the NFL, MLB, WNBA, MLS, NWSL, and eSports.    His investment work focuses on economic empowerment in urban communities through sports, real estate, infrastructure, financial services, and consumer brands?including SodexoMagic, UIC?s dining and food services partner.    Chancellor Marie Lynn Miranda will speak with Johnson about how his college journey continues to influence his success as both an athlete and an executive. | Event post: https://ahs.uic.edu/inside-ahs/events?page_id=30880
LOCATION: Isadore and Sadie Dorin Forum 725 W. Roosevelt Road  Chicago IL 60608
CLASS:PRIVATE
END:VEVENT
END:VCALENDAR
