BEGIN:VCALENDAR
VERSION:2.0
PRODID:-//UIC
BEGIN:VEVENT
UID:2026042010174520260410T12000020260410T12450069e5fd49e546c@uic.edu
CATEGORIES:MEETING
STATUS:TENTATIVE
DTSTAMP:20260406T044539
DTSTART:20260410T120000
DTEND:20260410T124500
SUMMARY:Free POUND class at the student recreation facility
DESCRIPTION:Students, faculty, and staff get free access to group fitness classes through the UIC Rec every Friday! Join Tyrianna this Friday, April 10th at 12:00 pm for a free POUND fitness class. POUND is a cardio jam session with lightly-weighted drumsticks called Ripstix as the "weapon of mass percussion." Add some inspiration from yoga, Pilates, strength, and conditioning, and you've got a one of a kind workout. Give it a try this week! | Event post: https://ahs.uic.edu/inside-ahs/events?page_id=31079
LOCATION:SRF Multipurpose Suite B 737 S. Halsted St.  Chicago IL 60607
CLASS:PRIVATE
END:VEVENT
END:VCALENDAR
